BEGIN:VCALENDAR
VERSION:2.0
PRODID:SchoolNow
CALSCALE:GREGORIAN
BEGIN:VEVENT
UID:2885fdc6-ab42-11ee-8966-028532627791
DTSTAMP:20240104T204513Z
SUMMARY:“Don’t Wing It”- Chicken & Info (Reserve)
URL;VALUE=URI:https://www.rpcc.edu/calendar/5104657/don-t-wing-it-chicken-i
 nfo-reserve
DTSTART:20240116T200000Z
DTEND:20240116T220000Z
END:VEVENT
END:VCALENDAR
