BEGIN:VCALENDAR
VERSION:2.0
PRODID:SchoolNow
CALSCALE:GREGORIAN
BEGIN:VEVENT
UID:1729a97e-ab42-11ee-80eb-0a58a9feac02
DTSTAMP:20240104T204443Z
SUMMARY:“Don’t Wing It”- Chicken & Info (Reserve)
URL;VALUE=URI:https://www.rpcc.edu/calendar/5104656/don-t-wing-it-chicken-i
 nfo-reserve
DTSTART:20240116T163000Z
DTEND:20240116T173000Z
END:VEVENT
END:VCALENDAR
