BEGIN:VCALENDAR
VERSION:2.0
PRODID:SchoolNow
CALSCALE:GREGORIAN
BEGIN:VEVENT
UID:4c5a9d84-ab37-11ee-9aba-0a58a9feac02
DTSTAMP:20240104T192728Z
SUMMARY:Winter Fest (Gonzales)
URL;VALUE=URI:https://www.rpcc.edu/calendar/5104568/winter-fest-gonzales
DTSTART:20240118T170000Z
DTEND:20240118T190000Z
END:VEVENT
END:VCALENDAR
