BEGIN:VCALENDAR
VERSION:2.0
PRODID:SchoolNow
CALSCALE:GREGORIAN
BEGIN:VEVENT
UID:3b6964d8-ab37-11ee-9667-0a58a9feac02
DTSTAMP:20240104T192700Z
SUMMARY:Power Up Snacks (Gonzales)
URL;VALUE=URI:https://www.rpcc.edu/calendar/5104567/power-up-snacks-gonzale
 s
DTSTART:20240117T170000Z
DTEND:20240117T180000Z
END:VEVENT
END:VCALENDAR
