BEGIN:VCALENDAR
VERSION:2.0
PRODID:SchoolNow
CALSCALE:GREGORIAN
BEGIN:VEVENT
UID:2a31a64e-ab37-11ee-badc-0a58a9feac02
DTSTAMP:20240104T192631Z
SUMMARY:Winter Essentials Shopping (Gonzales)
URL;VALUE=URI:https://www.rpcc.edu/calendar/5104566/winter-essentials-shopp
 ing-gonzales
DTSTART:20240117T170000Z
DTEND:20240117T180000Z
END:VEVENT
END:VCALENDAR
