BEGIN:VCALENDAR
VERSION:2.0
PRODID:SchoolNow
CALSCALE:GREGORIAN
BEGIN:VEVENT
UID:17ee31b4-ab37-11ee-a1e9-0a58a9feac02
DTSTAMP:20240104T192600Z
SUMMARY:Organization & Resource Fair (Gonzales)
URL;VALUE=URI:https://www.rpcc.edu/calendar/5104565/organization-resource-f
 air-gonzales
DTSTART:20240117T170000Z
DTEND:20240117T180000Z
END:VEVENT
END:VCALENDAR
