BEGIN:VCALENDAR
VERSION:2.0
PRODID:SchoolNow
CALSCALE:GREGORIAN
BEGIN:VEVENT
UID:07a620c8-ab37-11ee-8719-028532627791
DTSTAMP:20240104T192533Z
SUMMARY:Grab-N-Go Breakfast (Gonzales)
URL;VALUE=URI:https://www.rpcc.edu/calendar/5104564/grab-n-go-breakfast-gon
 zales
DTSTART:20240117T140000Z
DTEND:20240117T150000Z
END:VEVENT
END:VCALENDAR
