BEGIN:VCALENDAR
VERSION:2.0
PRODID:SchoolNow
CALSCALE:GREGORIAN
BEGIN:VEVENT
UID:f5ecb428-ab36-11ee-bd0f-0a58a9feac02
DTSTAMP:20240104T192503Z
SUMMARY:Gumbeaux (Gonzales)
LOCATION:Gonzales Tech Building
URL;VALUE=URI:https://www.rpcc.edu/calendar/5104345/gumbeaux-gonzales
DTSTART:20240116T210000Z
DTEND:20240116T220000Z
END:VEVENT
END:VCALENDAR
