BEGIN:VCALENDAR
VERSION:2.0
PRODID:SchoolNow
CALSCALE:GREGORIAN
BEGIN:VEVENT
UID:da844a66-ab36-11ee-af7e-0a58a9feac02
DTSTAMP:20240104T192417Z
SUMMARY:Winter Essentials Shopping (Gonzales)
URL;VALUE=URI:https://www.rpcc.edu/calendar/5104344/winter-essentials-shopp
 ing-gonzales
DTSTART:20240116T170000Z
DTEND:20240116T190000Z
END:VEVENT
END:VCALENDAR
