BEGIN:VCALENDAR
VERSION:2.0
PRODID:SchoolNow
CALSCALE:GREGORIAN
BEGIN:VEVENT
UID:c16d06bc-ab36-11ee-83b4-0a58a9feac02
DTSTAMP:20240104T192335Z
SUMMARY:Organization & Resource Fair (Gonzales Campus)
URL;VALUE=URI:https://www.rpcc.edu/calendar/5104343/organization-resource-f
 air-gonzales-campus
DTSTART:20240116T170000Z
DTEND:20240116T180000Z
END:VEVENT
END:VCALENDAR
