BEGIN:VCALENDAR
VERSION:2.0
PRODID:SchoolNow
CALSCALE:GREGORIAN
BEGIN:VEVENT
UID:ad6f5516-ab36-11ee-92b8-0a58a9feac02
DTSTAMP:20240104T192302Z
SUMMARY:Grab-N-Go Breakfast (Gonzales Campus)
URL;VALUE=URI:https://www.rpcc.edu/calendar/5104342/grab-n-go-breakfast-gon
 zales-campus
DTSTART:20240116T140000Z
DTEND:20240116T150000Z
END:VEVENT
END:VCALENDAR
