BEGIN:VCALENDAR
VERSION:2.0
PRODID:SchoolNow
CALSCALE:GREGORIAN
BEGIN:VEVENT
UID:8035ac98-7cbb-11ee-87fa-0a1bd524660b
DTSTAMP:20231106T154524Z
SUMMARY:Transfer Fair! (Gonzales)
URL;VALUE=URI:https://www.rpcc.edu/calendar/4930417/transfer-fair-gonzales
DTSTART:20231115T160000Z
DTEND:20231115T183000Z
END:VEVENT
END:VCALENDAR
