BEGIN:VCALENDAR
VERSION:2.0
PRODID:SchoolNow
CALSCALE:GREGORIAN
BEGIN:VEVENT
UID:77dc6318-735e-11ee-9857-022fbfa454a9
DTSTAMP:20240129T142901Z
SUMMARY:Happy Mardi Gras (Campus Closed)
URL;VALUE=URI:https://www.rpcc.edu/calendar/4899506/happy-mardi-gras-campus
 -closed
DTSTART:20240213T184600Z
DTEND:20240213T194600Z
END:VEVENT
END:VCALENDAR
