BEGIN:VCALENDAR
VERSION:2.0
PRODID:SchoolNow
CALSCALE:GREGORIAN
BEGIN:VEVENT
UID:43a5cef4-735e-11ee-a1b9-0a58a9feac02
DTSTAMP:20231025T174836Z
SUMMARY:MLK Day (Campuses Closed)
URL;VALUE=URI:https://www.rpcc.edu/calendar/4899505/mlk-day-campuses-closed
DTSTART:20240115T184400Z
DTEND:20240115T194400Z
END:VEVENT
END:VCALENDAR
