BEGIN:VCALENDAR
VERSION:2.0
PRODID:SchoolNow
CALSCALE:GREGORIAN
BEGIN:VEVENT
UID:2c58c1ca-735e-11ee-875a-026c61414fe9
DTSTAMP:20231219T184610Z
SUMMARY:New Year's Day (Campus Closed)
URL;VALUE=URI:https://www.rpcc.edu/calendar/4899504/new-years-day-campus-cl
 osed
DTSTART;VALUE=DATE:20240101
DTEND;VALUE=DATE:20240102
END:VEVENT
END:VCALENDAR
