BEGIN:VCALENDAR
VERSION:2.0
PRODID:SchoolNow
CALSCALE:GREGORIAN
BEGIN:VEVENT
UID:395395fe-735d-11ee-b015-02c2b6a7b9d3
DTSTAMP:20231130T154858Z
SUMMARY:SGA Fall Fest Postponed!
URL;VALUE=URI:https://www.rpcc.edu/calendar/4899499/sga-fall-fest
DTSTART:20231130T100000Z
DTEND:20231130T133000Z
END:VEVENT
END:VCALENDAR
