BEGIN:VCALENDAR
VERSION:2.0
PRODID:SchoolNow
CALSCALE:GREGORIAN
BEGIN:VEVENT
UID:1f04805a-735d-11ee-9dd8-020d5ab68435
DTSTAMP:20231025T174308Z
SUMMARY:Thanksgiving Meal for Students (St. Charles campus)
URL;VALUE=URI:https://www.rpcc.edu/calendar/4899498/thanksgiving-meal-for-s
 tudents-st-charles-campus
DTSTART:20231116T163000Z
DTEND:20231116T183000Z
END:VEVENT
END:VCALENDAR
