BEGIN:VCALENDAR
VERSION:2.0
PRODID:SchoolNow
CALSCALE:GREGORIAN
BEGIN:VEVENT
UID:fb006228-735c-11ee-999e-0a5cf4152bd5
DTSTAMP:20231025T174208Z
SUMMARY:Thanksgiving Meal for Students (Westside campus)
URL;VALUE=URI:https://www.rpcc.edu/calendar/4899496/thanksgiving-meal-for-s
 tudents-westside-campus
DTSTART:20231114T170000Z
DTEND:20231114T190000Z
END:VEVENT
END:VCALENDAR
