BEGIN:VCALENDAR
VERSION:2.0
PRODID:SchoolNow
CALSCALE:GREGORIAN
BEGIN:VEVENT
UID:df61ed0c-735c-11ee-b55a-0e893b1e6a55
DTSTAMP:20231025T173521Z
SUMMARY:Thanksgiving Meal for Students (Gonzales campus)
URL;VALUE=URI:https://www.rpcc.edu/calendar/4899495/thanksgiving-meal-for-s
 tudents-gonzales-campus
DTSTART:20231109T163000Z
DTEND:20231109T183000Z
END:VEVENT
END:VCALENDAR
