BEGIN:VCALENDAR
VERSION:2.0
PRODID:SchoolNow
CALSCALE:GREGORIAN
BEGIN:VEVENT
UID:c7530872-735c-11ee-bfe9-0a58a9feac02
DTSTAMP:20231025T173441Z
SUMMARY:Thanksgiving Meal for Students (Reserve campus)
URL;VALUE=URI:https://www.rpcc.edu/calendar/4899494/thanksgiving-meal-for-s
 tudents-reserve-campus
DTSTART:20231107T163000Z
DTEND:20231107T173000Z
END:VEVENT
END:VCALENDAR
