BEGIN:VCALENDAR
VERSION:2.0
PRODID:SchoolNow
CALSCALE:GREGORIAN
BEGIN:VEVENT
UID:9ff245e0-735c-11ee-9bb1-0a58a9feac02
DTSTAMP:20231025T173335Z
SUMMARY:Costume Contest (Presented by LGBTQ+ Club)
URL;VALUE=URI:https://www.rpcc.edu/calendar/4899492/costume-contest-present
 ed-by-lgbtq-club
DTSTART;VALUE=DATE:20231031
DTEND;VALUE=DATE:20231101
END:VEVENT
END:VCALENDAR
