BEGIN:VCALENDAR
VERSION:2.0
PRODID:SchoolNow
CALSCALE:GREGORIAN
BEGIN:VEVENT
UID:8720eea4-735c-11ee-87ee-0a58a9feac02
DTSTAMP:20231025T173253Z
SUMMARY:Halloween Festival
LOCATION:Reserve Campus
URL;VALUE=URI:https://www.rpcc.edu/calendar/4899491/halloween-festival
DTSTART:20231028T203100Z
DTEND:20231028T230000Z
END:VEVENT
END:VCALENDAR
