BEGIN:VCALENDAR
VERSION:2.0
PRODID:SchoolNow
CALSCALE:GREGORIAN
BEGIN:VEVENT
UID:56c05b64-735c-11ee-9d85-020d5ab68435
DTSTAMP:20231025T173850Z
SUMMARY:Winter Essentials Donations End
URL;VALUE=URI:https://www.rpcc.edu/calendar/4899490/winter-essentials-donat
 ions-end
DTSTART;VALUE=DATE:20231116
DTEND;VALUE=DATE:20231117
END:VEVENT
END:VCALENDAR
