BEGIN:VCALENDAR
VERSION:2.0
PRODID:SchoolNow
CALSCALE:GREGORIAN
BEGIN:VEVENT
UID:fe92edd2-4d89-11ee-9887-0a58a9feac02
DTSTAMP:20230907T142237Z
SUMMARY:Christmas Break Continued (Campuses Closed)
URL;VALUE=URI:https://www.rpcc.edu/calendar/4694729/christmas-break-continu
 ed-campuses-closed
DTSTART;VALUE=DATE:20231226
DTEND;VALUE=DATE:20231230
END:VEVENT
END:VCALENDAR
