BEGIN:VCALENDAR
VERSION:2.0
PRODID:SchoolNow
CALSCALE:GREGORIAN
BEGIN:VEVENT
UID:e5853ab6-4d89-11ee-8617-0a58a9feac02
DTSTAMP:20230907T142155Z
SUMMARY:Merry Christmas (Campuses Closed)
URL;VALUE=URI:https://www.rpcc.edu/calendar/4694728/merry-christmas-campuse
 s-closed
DTSTART;VALUE=DATE:20231225
DTEND;VALUE=DATE:20231226
END:VEVENT
END:VCALENDAR
