BEGIN:VCALENDAR
VERSION:2.0
PRODID:SchoolNow
CALSCALE:GREGORIAN
BEGIN:VEVENT
UID:94fcc53c-4d89-11ee-991a-02cbacfbd015
DTSTAMP:20230907T142028Z
SUMMARY:Happy Thanksgiving (Campuses Closed)!
URL;VALUE=URI:https://www.rpcc.edu/calendar/4694726/happy-thanksgiving
DTSTART;VALUE=DATE:20231123
DTEND;VALUE=DATE:20231124
END:VEVENT
END:VCALENDAR
