BEGIN:VCALENDAR
VERSION:2.0
PRODID:SchoolNow
CALSCALE:GREGORIAN
BEGIN:VEVENT
UID:00f74a12-4d87-11ee-9fd9-0a58a9feac02
DTSTAMP:20230907T140112Z
SUMMARY:Welcome Back from Fall Break!
URL;VALUE=URI:https://www.rpcc.edu/calendar/4694723/welcome-back-from-fall-
 break
DTSTART;VALUE=DATE:20231012
DTEND;VALUE=DATE:20231013
END:VEVENT
END:VCALENDAR
