BEGIN:VCALENDAR
VERSION:2.0
PRODID:SchoolNow
CALSCALE:GREGORIAN
BEGIN:VEVENT
UID:f8d2c50a-4d86-11ee-b9b4-0a58a9feac02
DTSTAMP:20230907T140059Z
SUMMARY:Welcome Back from Fall Break!
URL;VALUE=URI:https://www.rpcc.edu/calendar/4694722/welcome-back-from-fall-
 break
DTSTART;VALUE=DATE:20231011
DTEND;VALUE=DATE:20231012
END:VEVENT
END:VCALENDAR
