BEGIN:VCALENDAR
VERSION:2.0
PRODID:SchoolNow
CALSCALE:GREGORIAN
BEGIN:VEVENT
UID:e25639c4-4d86-11ee-baf9-0a58a9feac02
DTSTAMP:20230907T140021Z
SUMMARY:Shell Norco Presentation (St. Charles Campus)
URL;VALUE=URI:https://www.rpcc.edu/calendar/4694721/shell-norco-presentatio
 n-st-charles-campus
DTSTART;VALUE=DATE:20230926
DTEND;VALUE=DATE:20230927
END:VEVENT
END:VCALENDAR
