BEGIN:VCALENDAR
VERSION:2.0
PRODID:SchoolNow
CALSCALE:GREGORIAN
BEGIN:VEVENT
UID:458a3120-4d83-11ee-bed9-0a58a9feac02
DTSTAMP:20230907T133429Z
SUMMARY:SGA Application Deadline!
URL;VALUE=URI:https://www.rpcc.edu/calendar/4694717/sga-application-deadlin
 e
DTSTART;VALUE=DATE:20230908
DTEND;VALUE=DATE:20230909
END:VEVENT
END:VCALENDAR
