BEGIN:VCALENDAR
VERSION:2.0
PRODID:SchoolNow
CALSCALE:GREGORIAN
BEGIN:VEVENT
UID:5bfbc1d2-4cb9-11ee-95a8-0a58a9feac02
DTSTAMP:20231025T174856Z
SUMMARY:Spring 2024 Semester Begins!
URL;VALUE=URI:https://www.rpcc.edu/calendar/4688345/spring-2024-semester-be
 gins
DTSTART;VALUE=DATE:20240116
DTEND;VALUE=DATE:20240117
END:VEVENT
END:VCALENDAR
