BEGIN:VCALENDAR
VERSION:2.0
PRODID:SchoolNow
CALSCALE:GREGORIAN
BEGIN:VEVENT
UID:02aec5de-4cb9-11ee-af2f-02cbacfbd015
DTSTAMP:20230906T132639Z
SUMMARY:Mock Interviews (Gonzales)
URL;VALUE=URI:https://www.rpcc.edu/calendar/4688343/mock-interviews-gonzale
 s
DTSTART;VALUE=DATE:20231116
DTEND;VALUE=DATE:20231117
END:VEVENT
END:VCALENDAR
