BEGIN:VCALENDAR
VERSION:2.0
PRODID:SchoolNow
CALSCALE:GREGORIAN
BEGIN:VEVENT
UID:f30dc332-4cb8-11ee-9300-0a3fbe808629
DTSTAMP:20230906T132613Z
SUMMARY:Mock Interviews (Reserve)
URL;VALUE=URI:https://www.rpcc.edu/calendar/4688342/mock-interviews-reserve
DTSTART;VALUE=DATE:20231114
DTEND;VALUE=DATE:20231115
END:VEVENT
END:VCALENDAR
