BEGIN:VCALENDAR
VERSION:2.0
PRODID:SchoolNow
CALSCALE:GREGORIAN
BEGIN:VEVENT
UID:de819bfa-4cb8-11ee-b676-0a58a9feac02
DTSTAMP:20230906T132538Z
SUMMARY:JC Penny Suit-Up
URL;VALUE=URI:https://www.rpcc.edu/calendar/4688341/jc-penny-suit-up
DTSTART;VALUE=DATE:20231029
DTEND;VALUE=DATE:20231030
END:VEVENT
END:VCALENDAR
