BEGIN:VCALENDAR
VERSION:2.0
PRODID:SchoolNow
CALSCALE:GREGORIAN
BEGIN:VEVENT
UID:b9c40c80-4cb8-11ee-ae0f-0a58a9feac02
DTSTAMP:20230906T132436Z
SUMMARY:St. Charles Career Fair
URL;VALUE=URI:https://www.rpcc.edu/calendar/4688339/st-charles-career-fair
DTSTART:20231019T180000Z
DTEND:20231019T200000Z
END:VEVENT
END:VCALENDAR
