BEGIN:VCALENDAR
VERSION:2.0
PRODID:SchoolNow
CALSCALE:GREGORIAN
BEGIN:VEVENT
UID:9a70fb54-4cb8-11ee-8d8f-022243fcf76d
DTSTAMP:20230906T132344Z
SUMMARY:Winter Essentials Drive Begins
URL;VALUE=URI:https://www.rpcc.edu/calendar/4688338/winter-essentials-drive
 -begins
DTSTART;VALUE=DATE:20231201
DTEND;VALUE=DATE:20231202
END:VEVENT
END:VCALENDAR
