BEGIN:VCALENDAR
VERSION:2.0
PRODID:SchoolNow
CALSCALE:GREGORIAN
BEGIN:VEVENT
UID:82bea63c-4cb8-11ee-a8b6-0a3fbe808629
DTSTAMP:20231103T160353Z
SUMMARY:Men & Legacy Meeting
URL;VALUE=URI:https://www.rpcc.edu/calendar/4688337/men-legacy-meeting
DTSTART;VALUE=DATE:20231116
DTEND;VALUE=DATE:20231117
END:VEVENT
END:VCALENDAR
