BEGIN:VCALENDAR
VERSION:2.0
PRODID:SchoolNow
CALSCALE:GREGORIAN
BEGIN:VEVENT
UID:70c3ed84-4cb8-11ee-94b0-0a58a9feac02
DTSTAMP:20230906T132234Z
SUMMARY:Health & Wellness Fair
URL;VALUE=URI:https://www.rpcc.edu/calendar/4688336/health-wellness-fair
DTSTART;VALUE=DATE:20231026
DTEND;VALUE=DATE:20231027
END:VEVENT
END:VCALENDAR
