BEGIN:VCALENDAR
VERSION:2.0
PRODID:SchoolNow
CALSCALE:GREGORIAN
BEGIN:VEVENT
UID:03a4ee72-4747-11ee-853b-0ea0c56c0611
DTSTAMP:20230830T150802Z
SUMMARY:Manufacturing Day (private event)
URL;VALUE=URI:https://www.rpcc.edu/calendar/4653622/manufacturing-day-priva
 te-event
DTSTART;VALUE=DATE:20231006
DTEND;VALUE=DATE:20231007
END:VEVENT
END:VCALENDAR
