BEGIN:VCALENDAR
VERSION:2.0
PRODID:SchoolNow
CALSCALE:GREGORIAN
BEGIN:VEVENT
UID:3feb3072-45de-11ee-a6aa-027036ee8449
DTSTAMP:20230828T200535Z
SUMMARY:Ascension Parish School Board Expo
URL;VALUE=URI:https://www.rpcc.edu/calendar/4643714/ascension-parish-school
 -board-expo
DTSTART:20230906T230000Z
DTEND:20230907T010000Z
END:VEVENT
END:VCALENDAR
