BEGIN:VCALENDAR
VERSION:2.0
PRODID:SchoolNow
CALSCALE:GREGORIAN
BEGIN:VEVENT
UID:47039980-2fb3-11ee-ab9f-0a58a9feac02
DTSTAMP:20230731T150233Z
SUMMARY:Fall Semester Begins
URL;VALUE=URI:https://www.rpcc.edu/calendar/4535013/fall-semester-begins
DTSTART;VALUE=DATE:20230821
DTEND;VALUE=DATE:20230822
END:VEVENT
END:VCALENDAR
