BEGIN:VCALENDAR
VERSION:2.0
PRODID:SchoolNow
CALSCALE:GREGORIAN
BEGIN:VEVENT
UID:151372ce-2fb3-11ee-9801-0e6883f767cf
DTSTAMP:20230731T150109Z
SUMMARY:Convocation (Faculty\, Staff\, Employees Only)
URL;VALUE=URI:https://www.rpcc.edu/calendar/4535011/convocation-faculty-sta
 ff-employees-only
DTSTART;VALUE=DATE:20230807
DTEND;VALUE=DATE:20230808
END:VEVENT
END:VCALENDAR
