BEGIN:VCALENDAR
VERSION:2.0
PRODID:SchoolNow
CALSCALE:GREGORIAN
BEGIN:VEVENT
UID:fee05712-2718-11ee-801d-0a2b130c3785
DTSTAMP:20230720T161800Z
SUMMARY:9/11 Heroes Run!
LOCATION:RPCC Gonzales Campus
URL;VALUE=URI:https://www.rpcc.edu/calendar/4501980/9-11-heroes-run
DTSTART;VALUE=DATE:20230910
DTEND;VALUE=DATE:20230911
END:VEVENT
END:VCALENDAR
