BEGIN:VCALENDAR
VERSION:2.0
PRODID:SchoolNow
CALSCALE:GREGORIAN
BEGIN:VEVENT
UID:ce43a192-1447-11ee-ac4b-0e7482235fa7
DTSTAMP:20230626T173513Z
SUMMARY:Gonzales Open House!
LOCATION:Gonzales
URL;VALUE=URI:https://www.rpcc.edu/calendar/4437749/gonzales-open-house
DTSTART:20230810T210000Z
DTEND:20230810T233000Z
END:VEVENT
END:VCALENDAR
