BEGIN:VCALENDAR
VERSION:2.0
PRODID:SchoolNow
CALSCALE:GREGORIAN
BEGIN:VEVENT
UID:b7e94618-1447-11ee-802c-0e7482235fa7
DTSTAMP:20230626T173530Z
SUMMARY:Reserve Career Fair
LOCATION:Reserve Campus
URL;VALUE=URI:https://www.rpcc.edu/calendar/4437748/reserve-career-fair
DTSTART:20230803T210000Z
DTEND:20230804T000000Z
END:VEVENT
END:VCALENDAR
