BEGIN:VCALENDAR
VERSION:2.0
PRODID:SchoolNow
CALSCALE:GREGORIAN
BEGIN:VEVENT
UID:d52567fc-03bc-11ee-9bc6-0eb24ac07aa3
DTSTAMP:20230605T162005Z
SUMMARY:Rougarou Rendezvous
LOCATION:Westside campus
URL;VALUE=URI:https://www.rpcc.edu/calendar/4352486/rougarou-rendezvous
DTSTART:20230721T150000Z
DTEND:20230721T190000Z
END:VEVENT
END:VCALENDAR
