BEGIN:VCALENDAR
VERSION:2.0
PRODID:SchoolNow
CALSCALE:GREGORIAN
BEGIN:VEVENT
UID:b8d8a92e-03bc-11ee-a3e2-0eb24ac07aa3
DTSTAMP:20230605T161918Z
SUMMARY:Rex and the Krewe
LOCATION:St. Charles campus
URL;VALUE=URI:https://www.rpcc.edu/calendar/4352480/rex-and-the-krewe
DTSTART:20230713T210000Z
DTEND:20230714T000000Z
END:VEVENT
END:VCALENDAR
