BEGIN:VCALENDAR
VERSION:2.0
PRODID:SchoolNow
CALSCALE:GREGORIAN
BEGIN:VEVENT
UID:0a06a44a-e9f0-11ed-9644-0e4a5626a4d9
DTSTAMP:20230503T202108Z
SUMMARY:Nursing Pinning Ceremony
URL;VALUE=URI:https://www.rpcc.edu/calendar/4176305/nursing-pinning-ceremon
 y
DTSTART:20230513T200000Z
DTEND:20230513T220000Z
END:VEVENT
END:VCALENDAR
