BEGIN:VCALENDAR
VERSION:2.0
PRODID:SchoolNow
CALSCALE:GREGORIAN
BEGIN:VEVENT
UID:ed99de1c-e9ef-11ed-9605-0e4a5626a4d9
DTSTAMP:20230503T202021Z
SUMMARY:Happy Birthday\, Rex the Rougarou!
URL;VALUE=URI:https://www.rpcc.edu/calendar/4176304/happy-birthday-rex-the-
 rougarou
DTSTART;VALUE=DATE:20230505
DTEND;VALUE=DATE:20230506
END:VEVENT
END:VCALENDAR
