BEGIN:VCALENDAR
VERSION:2.0
PRODID:SchoolNow
CALSCALE:GREGORIAN
BEGIN:VEVENT
UID:94313cd4-d244-11ed-9f74-0aa969547949
DTSTAMP:20230403T172550Z
SUMMARY:Graduation
LOCATION:Bethany Church
URL;VALUE=URI:https://www.rpcc.edu/calendar/3974722/graduation
DTSTART:20230523T230000Z
DTEND:20230524T000000Z
END:VEVENT
END:VCALENDAR
